BEGIN:VCALENDAR
VERSION:2.0
PRODID:-//Squarespace Inc/Squarespace 6//v6//EN
BEGIN:VEVENT
UID:5a07a597f9619a1bb0eed191@squarespace.com
DTSTAMP:20171112T014034Z
DTSTART:20171117T220000Z
DTEND:20171118T040000Z
SUMMARY:General Market
END:VEVENT
END:VCALENDAR
