BEGIN:VCALENDAR
VERSION:2.0
PRODID:-//Squarespace Inc/Squarespace 6//v6//EN
BEGIN:VEVENT
UID:59fd59d38e7b0f1f9f6f150b@squarespace.com
DTSTAMP:20171112T013623Z
DTSTART:20171110T220000Z
DTEND:20171111T040000Z
SUMMARY:General Market
END:VEVENT
END:VCALENDAR
