BEGIN:VCALENDAR
VERSION:2.0
PRODID:-//Squarespace Inc/Squarespace 6//v6//EN
BEGIN:VEVENT
UID:5a13ee7571c10bfdba699479@squarespace.com
DTSTAMP:20171121T092215Z
DTSTART:20171124T220000Z
DTEND:20171125T040000Z
SUMMARY:General Market
END:VEVENT
END:VCALENDAR
