BEGIN:VCALENDAR
VERSION:2.0
PRODID:-//Squarespace Inc/Squarespace 6//v6//EN
BEGIN:VEVENT
UID:5a345b27e2c48362966fff36@squarespace.com
DTSTAMP:20171215T233214Z
DTSTART:20171215T220000Z
DTEND:20171216T040000Z
SUMMARY:General Market
END:VEVENT
END:VCALENDAR
