BEGIN:VCALENDAR
VERSION:2.0
PRODID:-//Squarespace Inc/Squarespace 6//v6//EN
BEGIN:VEVENT
UID:5a363e030d92972a19805dc9@squarespace.com
DTSTAMP:20171217T095451Z
DTSTART:20171222T160000Z
DTEND:20171223T040000Z
SUMMARY:General Market
END:VEVENT
END:VCALENDAR
