BEGIN:VCALENDAR
VERSION:2.0
PRODID:-//Squarespace Inc/Squarespace 6//v6//EN
BEGIN:VEVENT
UID:5a21b0f08165f58da08511cd@squarespace.com
DTSTAMP:20171201T194617Z
DTSTART:20171201T220000Z
DTEND:20171202T040000Z
SUMMARY:General Market
END:VEVENT
END:VCALENDAR
