BEGIN:VCALENDAR
VERSION:2.0
PRODID:-//Squarespace Inc/Squarespace 6//v6//EN
BEGIN:VEVENT
UID:5a2a6d5fe4966b565af84970@squarespace.com
DTSTAMP:20171208T105229Z
DTSTART:20171208T220000Z
DTEND:20171209T040000Z
SUMMARY:General Market
END:VEVENT
END:VCALENDAR
