BEGIN:VCALENDAR
VERSION:2.0
PRODID:-//Squarespace Inc/Squarespace 6//v6//EN
BEGIN:VEVENT
UID:5a5eb62cec212d2269695fa7@squarespace.com
DTSTAMP:20180117T023950Z
DTSTART:20180119T220000Z
DTEND:20180120T040000Z
SUMMARY:General Market
END:VEVENT
END:VCALENDAR
