BEGIN:VCALENDAR
VERSION:2.0
PRODID:-//Squarespace Inc/Squarespace 6//v6//EN
BEGIN:VEVENT
UID:5bc0348315fcc0a0e28ce805@squarespace.com
DTSTAMP:20181012T054444Z
DTSTART:20181012T220000Z
DTEND:20181013T040000Z
SUMMARY:General Market
END:VEVENT
END:VCALENDAR
