BEGIN:VCALENDAR
VERSION:2.0
PRODID:-//Squarespace Inc/Squarespace 6//v6//EN
BEGIN:VEVENT
UID:5bd3cfa4f9619a3526794f80@squarespace.com
DTSTAMP:20181027T023952Z
DTSTART:20181026T220000Z
DTEND:20181027T040000Z
SUMMARY:General Market
END:VEVENT
END:VCALENDAR
