BEGIN:VCALENDAR
VERSION:2.0
PRODID:-//Squarespace Inc/Squarespace 6//v6//EN
BEGIN:VEVENT
UID:5bde31674ae2373920e2631a@squarespace.com
DTSTAMP:20181104T000357Z
DTSTART:20181109T220000Z
DTEND:20181110T040000Z
SUMMARY:General Market
END:VEVENT
END:VCALENDAR
