BEGIN:VCALENDAR
VERSION:2.0
PRODID:-//Squarespace Inc/Squarespace 6//v6//EN
BEGIN:VEVENT
UID:5c00ed1e575d1f7771547ba3@squarespace.com
DTSTAMP:20181130T075737Z
DTSTART:20181130T220000Z
DTEND:20181201T040000Z
SUMMARY:General Market
END:VEVENT
END:VCALENDAR
