BEGIN:VCALENDAR
VERSION:2.0
PRODID:-//Squarespace Inc/Squarespace 6//v6//EN
BEGIN:VEVENT
UID:5c08fce34d7a9c4906dacb8b@squarespace.com
DTSTAMP:20181206T104409Z
DTSTART:20181214T220000Z
DTEND:20181215T040000Z
SUMMARY:General Market
END:VEVENT
END:VCALENDAR
