BEGIN:VCALENDAR
VERSION:2.0
PRODID:-//Squarespace Inc/Squarespace 6//v6//EN
BEGIN:VEVENT
UID:5c08fd10562fa7f802f6026a@squarespace.com
DTSTAMP:20181206T104457Z
DTSTART:20181221T220000Z
DTEND:20181222T040000Z
SUMMARY:General Market
END:VEVENT
END:VCALENDAR
