BEGIN:VCALENDAR
VERSION:2.0
PRODID:-//Squarespace Inc/Squarespace 6//v6//EN
BEGIN:VEVENT
UID:5c08fc610e2e72a844693c64@squarespace.com
DTSTAMP:20181206T104037Z
DTSTART:20181207T220000Z
DTEND:20181208T040000Z
SUMMARY:General Market
END:VEVENT
END:VCALENDAR
