BEGIN:VCALENDAR
VERSION:2.0
PRODID:-//Squarespace Inc/Squarespace 6//v6//EN
BEGIN:VEVENT
UID:5a74119e0d9297e98a551ba8@squarespace.com
DTSTAMP:20180202T072421Z
DTSTART:20180202T220000Z
DTEND:20180203T040000Z
SUMMARY:General Market
END:VEVENT
END:VCALENDAR
