BEGIN:VCALENDAR
VERSION:2.0
PRODID:-//Squarespace Inc/Squarespace 6//v6//EN
BEGIN:VEVENT
UID:5aa8d3c30d9297e66d01fe44@squarespace.com
DTSTAMP:20180314T080522Z
DTSTART:20180323T220000Z
DTEND:20180324T040000Z
SUMMARY:Balmain Easter Market
END:VEVENT
END:VCALENDAR
