BEGIN:VCALENDAR
VERSION:2.0
PRODID:-//Squarespace Inc/Squarespace 6//v6//EN
BEGIN:VEVENT
UID:5abdbe78352f53e5abc43cd3@squarespace.com
DTSTAMP:20180330T043832Z
DTSTART:20180330T220000Z
DTEND:20180331T040000Z
SUMMARY:General Market
END:VEVENT
END:VCALENDAR
