BEGIN:VCALENDAR
VERSION:2.0
PRODID:-//Squarespace Inc/Squarespace 6//v6//EN
BEGIN:VEVENT
UID:5ad171621ae6cfce647f7116@squarespace.com
DTSTAMP:20180425T032640Z
DTSTART:20180427T230000Z
DTEND:20180428T050000Z
SUMMARY:General Market
END:VEVENT
END:VCALENDAR
