BEGIN:VCALENDAR
VERSION:2.0
PRODID:-//Squarespace Inc/Squarespace 6//v6//EN
BEGIN:VEVENT
UID:5abdbee988251b75e573e533@squarespace.com
DTSTAMP:20180414T031049Z
DTSTART:20180413T230000Z
DTEND:20180414T050000Z
SUMMARY:General Market
END:VEVENT
END:VCALENDAR
