BEGIN:VCALENDAR
VERSION:2.0
PRODID:-//Squarespace Inc/Squarespace 6//v6//EN
BEGIN:VEVENT
UID:5aea63b188251b6efda8c6a1@squarespace.com
DTSTAMP:20180503T012053Z
DTSTART:20180511T230000Z
DTEND:20180512T050000Z
SUMMARY:General Market
END:VEVENT
END:VCALENDAR
