BEGIN:VCALENDAR
VERSION:2.0
PRODID:-//Squarespace Inc/Squarespace 6//v6//EN
BEGIN:VEVENT
UID:5b07b80d0e2e72f896d69a64@squarespace.com
DTSTAMP:20180525T071730Z
DTSTART:20180525T230000Z
DTEND:20180526T050000Z
SUMMARY:General Market
END:VEVENT
END:VCALENDAR
