BEGIN:VCALENDAR
VERSION:2.0
PRODID:-//Squarespace Inc/Squarespace 6//v6//EN
BEGIN:VEVENT
UID:5b2d60f170a6ad2b423f3000@squarespace.com
DTSTAMP:20180622T205137Z
DTSTART:20180622T230000Z
DTEND:20180623T050000Z
SUMMARY:General Market
END:VEVENT
END:VCALENDAR
