BEGIN:VCALENDAR
VERSION:2.0
PRODID:-//Squarespace Inc/Squarespace 6//v6//EN
BEGIN:VEVENT
UID:5b35d4b1575d1f7d68ddfa9f@squarespace.com
DTSTAMP:20180629T064307Z
DTSTART:20180629T230000Z
DTEND:20180630T050000Z
SUMMARY:General Market
END:VEVENT
END:VCALENDAR
