BEGIN:VCALENDAR
VERSION:2.0
PRODID:-//Squarespace Inc/Squarespace 6//v6//EN
BEGIN:VEVENT
UID:5b17c1ab88251b446d5182ee@squarespace.com
DTSTAMP:20180606T111442Z
DTSTART:20180608T230000Z
DTEND:20180609T050000Z
SUMMARY:General Market
END:VEVENT
END:VCALENDAR
