BEGIN:VCALENDAR
VERSION:2.0
PRODID:-//Squarespace Inc/Squarespace 6//v6//EN
BEGIN:VEVENT
UID:5b49602b758d462d9533e3d9@squarespace.com
DTSTAMP:20180714T023201Z
DTSTART:20180713T230000Z
DTEND:20180714T050000Z
SUMMARY:General Market
END:VEVENT
END:VCALENDAR
