BEGIN:VCALENDAR
VERSION:2.0
PRODID:-//Squarespace Inc/Squarespace 6//v6//EN
BEGIN:VEVENT
UID:5b4960ba6d2a732ab3546f40@squarespace.com
DTSTAMP:20180714T024845Z
DTSTART:20180727T230000Z
DTEND:20180728T050000Z
SUMMARY:General Market
END:VEVENT
END:VCALENDAR
