BEGIN:VCALENDAR
VERSION:2.0
PRODID:-//Squarespace Inc/Squarespace 6//v6//EN
BEGIN:VEVENT
UID:5b653bbe352f53d381182e28@squarespace.com
DTSTAMP:20180804T053958Z
DTSTART:20180810T230000Z
DTEND:20180811T050000Z
SUMMARY:General Market
END:VEVENT
END:VCALENDAR
