BEGIN:VCALENDAR
VERSION:2.0
PRODID:-//Squarespace Inc/Squarespace 6//v6//EN
BEGIN:VEVENT
UID:5b653c5670a6adef3bd98d56@squarespace.com
DTSTAMP:20180804T054218Z
DTSTART:20180824T230000Z
DTEND:20180825T050000Z
SUMMARY:General Market
END:VEVENT
END:VCALENDAR
