BEGIN:VCALENDAR
VERSION:2.0
PRODID:-//Squarespace Inc/Squarespace 6//v6//EN
BEGIN:VEVENT
UID:5b496129f950b741b8899dba@squarespace.com
DTSTAMP:20180804T055113Z
DTSTART:20180831T230000Z
DTEND:20180901T050000Z
SUMMARY:2018 Spring Community Flea Market (Special Event!)
END:VEVENT
END:VCALENDAR
