BEGIN:VCALENDAR
VERSION:2.0
PRODID:-//Squarespace Inc/Squarespace 6//v6//EN
BEGIN:VEVENT
UID:5ba4a7f0eef1a1ae46c8c114@squarespace.com
DTSTAMP:20180921T081553Z
DTSTART:20180922T000000Z
DTEND:20180922T050000Z
SUMMARY:General Market
END:VEVENT
END:VCALENDAR
