BEGIN:VCALENDAR
VERSION:2.0
PRODID:-//Squarespace Inc/Squarespace 6//v6//EN
BEGIN:VEVENT
UID:5badda03e2c483d01059a838@squarespace.com
DTSTAMP:20180928T073745Z
DTSTART:20180928T230000Z
DTEND:20180929T050000Z
SUMMARY:General Market
END:VEVENT
END:VCALENDAR
