BEGIN:VCALENDAR
VERSION:2.0
PRODID:-//Squarespace Inc/Squarespace 6//v6//EN
BEGIN:VEVENT
UID:5b92228f0e2e728dcae6ef3a@squarespace.com
DTSTAMP:20180907T070351Z
DTSTART:20180907T230000Z
DTEND:20180908T050000Z
SUMMARY:General Market
END:VEVENT
END:VCALENDAR
