BEGIN:VCALENDAR
VERSION:2.0
PRODID:-//Squarespace Inc/Squarespace 6//v6//EN
BEGIN:VEVENT
UID:5c1c977f575d1fc9c1325706@squarespace.com
DTSTAMP:20181221T073529Z
DTSTART:20190111T220000Z
DTEND:20190112T040000Z
SUMMARY:General Market
END:VEVENT
END:VCALENDAR
