BEGIN:VCALENDAR
VERSION:2.0
PRODID:-//Squarespace Inc/Squarespace 6//v6//EN
BEGIN:VEVENT
UID:5c1c97cdaa4a99459b4925db@squarespace.com
DTSTAMP:20181221T073657Z
DTSTART:20190125T220000Z
DTEND:20190126T040000Z
SUMMARY:General Market
END:VEVENT
END:VCALENDAR
