BEGIN:VCALENDAR
VERSION:2.0
PRODID:-//Squarespace Inc/Squarespace 6//v6//EN
BEGIN:VEVENT
UID:5c5027eb21c67cf6fe48867f@squarespace.com
DTSTAMP:20190129T101819Z
DTSTART:20190208T220000Z
DTEND:20190209T040000Z
SUMMARY:General Market
END:VEVENT
END:VCALENDAR
